BEGIN:VCALENDAR
VERSION:2.0
PRODID:-//Art Classes for Kids Cherry Hill, NJ - ECPv6.15.15//NONSGML v1.0//EN
CALSCALE:GREGORIAN
METHOD:PUBLISH
X-ORIGINAL-URL:https://thecandylaboratory.com
X-WR-CALDESC:Events for Art Classes for Kids Cherry Hill, NJ
REFRESH-INTERVAL;VALUE=DURATION:PT1H
X-Robots-Tag:noindex
X-PUBLISHED-TTL:PT1H
BEGIN:VTIMEZONE
TZID:America/New_York
BEGIN:DAYLIGHT
TZOFFSETFROM:-0500
TZOFFSETTO:-0400
TZNAME:EDT
DTSTART:20250309T070000
END:DAYLIGHT
BEGIN:STANDARD
TZOFFSETFROM:-0400
TZOFFSETTO:-0500
TZNAME:EST
DTSTART:20251102T060000
END:STANDARD
BEGIN:DAYLIGHT
TZOFFSETFROM:-0500
TZOFFSETTO:-0400
TZNAME:EDT
DTSTART:20260308T070000
END:DAYLIGHT
BEGIN:STANDARD
TZOFFSETFROM:-0400
TZOFFSETTO:-0500
TZNAME:EST
DTSTART:20261101T060000
END:STANDARD
BEGIN:DAYLIGHT
TZOFFSETFROM:-0500
TZOFFSETTO:-0400
TZNAME:EDT
DTSTART:20270314T070000
END:DAYLIGHT
BEGIN:STANDARD
TZOFFSETFROM:-0400
TZOFFSETTO:-0500
TZNAME:EST
DTSTART:20271107T060000
END:STANDARD
END:VTIMEZONE
BEGIN:VEVENT
DTSTART;TZID=America/New_York:20260110T140000
DTEND;TZID=America/New_York:20260110T160000
DTSTAMP:20260423T142546
CREATED:20260105T142809Z
LAST-MODIFIED:20260105T142827Z
UID:10000142-1768053600-1768060800@thecandylaboratory.com
SUMMARY:Narberth:  January 10\, 2026: Grand Opening of Narberth Lab
DESCRIPTION:Join us on January 10\, 2026 from 2-4pm as we say hello to our new Narberth Lab!  We’ll be making two delightful\, edible\, FREE crafts!  Join us!  No registration required!
URL:https://thecandylaboratory.com/event/narberth-january-102-2026-grand-opening-of-narberth-lab/
LOCATION:The Candy Lab (Ardmore)\, 22 East Lancaster Ave\, Ardmore\, PA\, 19003\, United States
CATEGORIES:Come Any Time Classes
ATTACH;FMTTYPE=image/webp:https://thecandylaboratory.com/wp-content/uploads/2026/01/Marshmallow-Snowflakes11-3-683x1024-1-e1767623258611.webp
ORGANIZER;CN="The Candy Lab":MAILTO:info@thecandylaboratory.com
END:VEVENT
END:VCALENDAR