BEGIN:VCALENDAR
VERSION:2.0
PRODID:-//Art Classes for Kids Cherry Hill, NJ - ECPv6.15.15//NONSGML v1.0//EN
CALSCALE:GREGORIAN
METHOD:PUBLISH
X-WR-CALNAME:Art Classes for Kids Cherry Hill, NJ
X-ORIGINAL-URL:https://thecandylaboratory.com
X-WR-CALDESC:Events for Art Classes for Kids Cherry Hill, NJ
REFRESH-INTERVAL;VALUE=DURATION:PT1H
X-Robots-Tag:noindex
X-PUBLISHED-TTL:PT1H
BEGIN:VTIMEZONE
TZID:America/New_York
BEGIN:DAYLIGHT
TZOFFSETFROM:-0500
TZOFFSETTO:-0400
TZNAME:EDT
DTSTART:20250309T070000
END:DAYLIGHT
BEGIN:STANDARD
TZOFFSETFROM:-0400
TZOFFSETTO:-0500
TZNAME:EST
DTSTART:20251102T060000
END:STANDARD
BEGIN:DAYLIGHT
TZOFFSETFROM:-0500
TZOFFSETTO:-0400
TZNAME:EDT
DTSTART:20260308T070000
END:DAYLIGHT
BEGIN:STANDARD
TZOFFSETFROM:-0400
TZOFFSETTO:-0500
TZNAME:EST
DTSTART:20261101T060000
END:STANDARD
BEGIN:DAYLIGHT
TZOFFSETFROM:-0500
TZOFFSETTO:-0400
TZNAME:EDT
DTSTART:20270314T070000
END:DAYLIGHT
BEGIN:STANDARD
TZOFFSETFROM:-0400
TZOFFSETTO:-0500
TZNAME:EST
DTSTART:20271107T060000
END:STANDARD
END:VTIMEZONE
BEGIN:VEVENT
DTSTART;TZID=America/New_York:20260419T160000
DTEND;TZID=America/New_York:20260419T170000
DTSTAMP:20260423T061709
CREATED:20251120T145741Z
LAST-MODIFIED:20251120T145854Z
UID:10000141-1776614400-1776618000@thecandylaboratory.com
SUMMARY:Sunday\, April 19\, 2026:  Spring Crafts- HADDONFIELD
DESCRIPTION:Join us on Sunday\, April 19\, 2026 as we make beautiful and delicious Spring crafts!  Only $20 for 5 yummy crafts (plus $1.33 sales tax) \nSession time:  4-5pm \nPerfect for ages 5-12. \n  \n  \n 
URL:https://thecandylaboratory.com/event/sunday-april-19-2026-spring-crafts-haddonfield/
LOCATION:The Candy Lab (Haddonfield)
CATEGORIES:Come Any Time Classes,Spring Break Camp,Spring Holiday Classes
ATTACH;FMTTYPE=image/jpeg:https://thecandylaboratory.com/wp-content/uploads/2024/04/blueberry-flower.jpg
ORGANIZER;CN="The Candy Lab":MAILTO:info@thecandylaboratory.com
END:VEVENT
BEGIN:VEVENT
DTSTART;TZID=America/New_York:20260508T190000
DTEND;TZID=America/New_York:20260508T200000
DTSTAMP:20260423T061709
CREATED:20251119T214305Z
LAST-MODIFIED:20260415T142006Z
UID:10000138-1778266800-1778270400@thecandylaboratory.com
SUMMARY:Friday\, May 8\, 2026:  Mother's Day Treats:  NARBERTH
DESCRIPTION:Join us on Friday\, May 8\, 2026 from 7-8pm as we make our moms gifts she’ll enjoy receiving… and eating!  We’ll be making an edible terrarium\, Starburst flowers and more.  Join us!  For ages 6+\, $25 per crafter (+$1.50 sales tax). \n  \nPlease note:  A minimum of 5 children per session is needed for the class to be held.
URL:https://thecandylaboratory.com/event/saturday-may-9-2026-mothers-day-treats-ardmore/
LOCATION:The Candy Lab (Narberth)\, 222 Haverford Ave\, Narberth\, PA\, 19072\, United States
CATEGORIES:Come Any Time Classes
ATTACH;FMTTYPE=image/jpeg:https://thecandylaboratory.com/wp-content/uploads/2023/04/mday-page-002.jpg
ORGANIZER;CN="The Candy Lab":MAILTO:info@thecandylaboratory.com
END:VEVENT
END:VCALENDAR