BEGIN:VCALENDAR
VERSION:2.0
PRODID:-//Art Classes for Kids Cherry Hill, NJ - ECPv6.15.15//NONSGML v1.0//EN
CALSCALE:GREGORIAN
METHOD:PUBLISH
X-ORIGINAL-URL:https://thecandylaboratory.com
X-WR-CALDESC:Events for Art Classes for Kids Cherry Hill, NJ
REFRESH-INTERVAL;VALUE=DURATION:PT1H
X-Robots-Tag:noindex
X-PUBLISHED-TTL:PT1H
BEGIN:VTIMEZONE
TZID:America/New_York
BEGIN:DAYLIGHT
TZOFFSETFROM:-0500
TZOFFSETTO:-0400
TZNAME:EDT
DTSTART:20220313T070000
END:DAYLIGHT
BEGIN:STANDARD
TZOFFSETFROM:-0400
TZOFFSETTO:-0500
TZNAME:EST
DTSTART:20221106T060000
END:STANDARD
BEGIN:DAYLIGHT
TZOFFSETFROM:-0500
TZOFFSETTO:-0400
TZNAME:EDT
DTSTART:20230312T070000
END:DAYLIGHT
BEGIN:STANDARD
TZOFFSETFROM:-0400
TZOFFSETTO:-0500
TZNAME:EST
DTSTART:20231105T060000
END:STANDARD
BEGIN:DAYLIGHT
TZOFFSETFROM:-0500
TZOFFSETTO:-0400
TZNAME:EDT
DTSTART:20240310T070000
END:DAYLIGHT
BEGIN:STANDARD
TZOFFSETFROM:-0400
TZOFFSETTO:-0500
TZNAME:EST
DTSTART:20241103T060000
END:STANDARD
END:VTIMEZONE
BEGIN:VEVENT
DTSTART;TZID=America/New_York:20230929T160000
DTEND;TZID=America/New_York:20230929T190000
DTSTAMP:20260425T160004
CREATED:20230914T191404Z
LAST-MODIFIED:20230914T191448Z
UID:10000050-1696003200-1696014000@thecandylaboratory.com
SUMMARY:DISREGARD SOLD OUT! Fall Crafting\, After- School Open House Event
DESCRIPTION:Join us any time between 4-7pm on Friday\, September 29 as we make 6 delicious fall-themed edible crafts. Perfect for ages 3-103.  Just $20 per crafter!
URL:https://thecandylaboratory.com/event/disregard-sold-out-fall-crafting-after-school-open-house-event/
LOCATION:The Candy Lab (Ardmore)\, 22 East Lancaster Ave\, Ardmore\, PA\, 19003\, United States
CATEGORIES:Come Any Time Classes,Fall Holiday Classes
ATTACH;FMTTYPE=image/jpeg:https://thecandylaboratory.com/wp-content/uploads/2023/09/fall-edible-art.jpg
ORGANIZER;CN="The Candy Lab":MAILTO:info@thecandylaboratory.com
END:VEVENT
END:VCALENDAR