BEGIN:VCALENDAR
VERSION:2.0
PRODID:-//Art Classes for Kids Cherry Hill, NJ - ECPv6.15.15//NONSGML v1.0//EN
CALSCALE:GREGORIAN
METHOD:PUBLISH
X-WR-CALNAME:Art Classes for Kids Cherry Hill, NJ
X-ORIGINAL-URL:https://thecandylaboratory.com
X-WR-CALDESC:Events for Art Classes for Kids Cherry Hill, NJ
REFRESH-INTERVAL;VALUE=DURATION:PT1H
X-Robots-Tag:noindex
X-PUBLISHED-TTL:PT1H
BEGIN:VTIMEZONE
TZID:America/New_York
BEGIN:DAYLIGHT
TZOFFSETFROM:-0500
TZOFFSETTO:-0400
TZNAME:EDT
DTSTART:20220313T070000
END:DAYLIGHT
BEGIN:STANDARD
TZOFFSETFROM:-0400
TZOFFSETTO:-0500
TZNAME:EST
DTSTART:20221106T060000
END:STANDARD
BEGIN:DAYLIGHT
TZOFFSETFROM:-0500
TZOFFSETTO:-0400
TZNAME:EDT
DTSTART:20230312T070000
END:DAYLIGHT
BEGIN:STANDARD
TZOFFSETFROM:-0400
TZOFFSETTO:-0500
TZNAME:EST
DTSTART:20231105T060000
END:STANDARD
BEGIN:DAYLIGHT
TZOFFSETFROM:-0500
TZOFFSETTO:-0400
TZNAME:EDT
DTSTART:20240310T070000
END:DAYLIGHT
BEGIN:STANDARD
TZOFFSETFROM:-0400
TZOFFSETTO:-0500
TZNAME:EST
DTSTART:20241103T060000
END:STANDARD
END:VTIMEZONE
BEGIN:VEVENT
DTSTART;TZID=America/New_York:20231029T140000
DTEND;TZID=America/New_York:20231029T153000
DTSTAMP:20260425T143446
CREATED:20230828T193936Z
LAST-MODIFIED:20231201T191650Z
UID:10000041-1698588000-1698593400@thecandylaboratory.com
SUMMARY:Halloween Crafting at The Candy Lab
DESCRIPTION:Come dressed in your Halloween costumes as we make 8 (maybe even 10!) delicious and spooky Halloween edible crafts!   We’ll have a ghostly great time! Sunday\, October 29\, 2-3:30pm\, just $35 per crafter!
URL:https://thecandylaboratory.com/event/halloween-crafting-at-the-candy-lab/
LOCATION:The Candy Lab (Ardmore)\, 22 East Lancaster Ave\, Ardmore\, PA\, 19003\, United States
CATEGORIES:Fall Holiday Classes
ATTACH;FMTTYPE=image/jpeg:https://thecandylaboratory.com/wp-content/uploads/2023/08/halloween-1.jpg
ORGANIZER;CN="The Candy Lab":MAILTO:info@thecandylaboratory.com
END:VEVENT
END:VCALENDAR