BEGIN:VCALENDAR
VERSION:2.0
PRODID:-//Art Classes for Kids Cherry Hill, NJ - ECPv6.15.15//NONSGML v1.0//EN
CALSCALE:GREGORIAN
METHOD:PUBLISH
X-ORIGINAL-URL:https://thecandylaboratory.com
X-WR-CALDESC:Events for Art Classes for Kids Cherry Hill, NJ
REFRESH-INTERVAL;VALUE=DURATION:PT1H
X-Robots-Tag:noindex
X-PUBLISHED-TTL:PT1H
BEGIN:VTIMEZONE
TZID:America/New_York
BEGIN:DAYLIGHT
TZOFFSETFROM:-0500
TZOFFSETTO:-0400
TZNAME:EDT
DTSTART:20220313T070000
END:DAYLIGHT
BEGIN:STANDARD
TZOFFSETFROM:-0400
TZOFFSETTO:-0500
TZNAME:EST
DTSTART:20221106T060000
END:STANDARD
BEGIN:DAYLIGHT
TZOFFSETFROM:-0500
TZOFFSETTO:-0400
TZNAME:EDT
DTSTART:20230312T070000
END:DAYLIGHT
BEGIN:STANDARD
TZOFFSETFROM:-0400
TZOFFSETTO:-0500
TZNAME:EST
DTSTART:20231105T060000
END:STANDARD
BEGIN:DAYLIGHT
TZOFFSETFROM:-0500
TZOFFSETTO:-0400
TZNAME:EDT
DTSTART:20240310T070000
END:DAYLIGHT
BEGIN:STANDARD
TZOFFSETFROM:-0400
TZOFFSETTO:-0500
TZNAME:EST
DTSTART:20241103T060000
END:STANDARD
END:VTIMEZONE
BEGIN:VEVENT
DTSTART;TZID=America/New_York:20231105T110000
DTEND;TZID=America/New_York:20231105T150000
DTSTAMP:20260425T130153
CREATED:20230828T195312Z
LAST-MODIFIED:20231201T194914Z
UID:10000043-1699182000-1699196400@thecandylaboratory.com
SUMMARY:Happy 1st Anniversary to Us!
DESCRIPTION:Happy first anniversary to The Candy Lab! Help us celebrate as we make two FREE crafts!  No prior registration required.  Sunday\, November 5\, 11am-3pm.  FREE off charge!  FREE giveaways\, too!
URL:https://thecandylaboratory.com/event/happy-1st-anniversary-to-us/
LOCATION:The Candy Lab (Ardmore)\, 22 East Lancaster Ave\, Ardmore\, PA\, 19003\, United States
CATEGORIES:Fall Holiday Classes
ATTACH;FMTTYPE=image/jpeg:https://thecandylaboratory.com/wp-content/uploads/2023/08/1-in-candy.jpg
ORGANIZER;CN="The Candy Lab":MAILTO:info@thecandylaboratory.com
END:VEVENT
BEGIN:VEVENT
DTSTART;TZID=America/New_York:20231107T100000
DTEND;TZID=America/New_York:20231107T150000
DTSTAMP:20260425T130153
CREATED:20230828T195928Z
LAST-MODIFIED:20231001T011509Z
UID:10000044-1699351200-1699369200@thecandylaboratory.com
SUMMARY:Election Day Edible Art
DESCRIPTION:Join us for an hour on Election Day\, Tuesday\, November 7 as we make election- and fall-themed edible art.  Select which hour you would like to attend — between 10am-3pm.  We’ll be making 6 delectable\, edible crafts for just $20 per crafter.
URL:https://thecandylaboratory.com/event/election-day-edible-art/
LOCATION:The Candy Lab (Ardmore)\, 22 East Lancaster Ave\, Ardmore\, PA\, 19003\, United States
CATEGORIES:Fall Holiday Classes
ATTACH;FMTTYPE=image/jpeg:https://thecandylaboratory.com/wp-content/uploads/2023/08/election-day.jpg
ORGANIZER;CN="The Candy Lab":MAILTO:info@thecandylaboratory.com
END:VEVENT
END:VCALENDAR